BEGIN:VCALENDAR
VERSION:2.0
PRODID:-//La Petite Halle - ECPv4.9.10.1//NONSGML v1.0//EN
CALSCALE:GREGORIAN
METHOD:PUBLISH
X-WR-CALNAME:La Petite Halle
X-ORIGINAL-URL:https://www.lapetitehalle.com
X-WR-CALDESC:évènements pour La Petite Halle
BEGIN:VTIMEZONE
TZID:Europe/Paris
BEGIN:DAYLIGHT
TZOFFSETFROM:+0100
TZOFFSETTO:+0200
TZNAME:CEST
DTSTART:20240331T010000
END:DAYLIGHT
BEGIN:STANDARD
TZOFFSETFROM:+0200
TZOFFSETTO:+0100
TZNAME:CET
DTSTART:20241027T010000
END:STANDARD
END:VTIMEZONE
BEGIN:VEVENT
DTSTART;TZID=Europe/Paris:20240614T210000
DTEND;TZID=Europe/Paris:20240615T010000
DTSTAMP:20260421T165535
CREATED:20240530T040011Z
LAST-MODIFIED:20240612T131230Z
UID:20706-1718398800-1718413200@www.lapetitehalle.com
SUMMARY:Abdullah Miniawy (artiste résident)
DESCRIPTION:\n\n\n\n\n  \nLa Petite Halle est fière d’accueillir Abdullah Miniawy en résidence de plusieurs mois sur sa scène ! \n  \n✨ Rendez-vous le vendredi 14 juin \nChanteur\, poète\, compositeur\, trompettiste et acteur\, Abdullah Miniawy est un artiste égyptien au talent indéniable. Ses textes engagés\, portés par une voix d’une intensité rare\, résonnent pour raconter tout un pays\, avec ses injustices comme ses beautés. \n🎶 Avec :Marie-Suzane de Loye – Viole de gambeWadie Naim – batterieSylvain Rabourdin – violon \nUn avant-gout ? 👇https://soundcloud.com/abdullahmadm@abdullahminiawyofficialhttps://abdullahminiawy.com/ \n© Hasan Malla \n__________________________________👌 INFOS PRATIQUESLa Petite Halle :211 Avenue Jean-Jaurès\, 75019\, ParisMétro : Porte de Pantin (ligne 5)Tramway : Porte de Pantin – Parc de la Villette (ligne 3B)Possibilité de se restaurer sur placeEntrée libre ! \nTarifs : Gratuit \n\n\n\n\n\n\n\n\n
URL:https://www.lapetitehalle.com/evenement/abdullah-miniawy-artiste-resident/
LOCATION:La Petite Halle\, Petite Halle de la Villette\, 211 Av. Jean Jaurès\, Paris\, 75019\, France
CATEGORIES:Concert,Sowprog
ATTACH;FMTTYPE=image/jpeg:https://www.lapetitehalle.com/wp-content/uploads/2024/05/namethumb_w600px_img_event_44e8f449-2d35-4dfc-88a8-323f669f96b0.jpg
GEO:48.8905205;2.388024
X-APPLE-STRUCTURED-LOCATION;VALUE=URI;X-ADDRESS=La Petite Halle Petite Halle de la Villette 211 Av. Jean Jaurès Paris 75019 France;X-APPLE-RADIUS=500;X-TITLE=Petite Halle de la Villette\, 211 Av. Jean Jaurès:geo:2.388024,48.8905205
END:VEVENT
END:VCALENDAR