BEGIN:VCALENDAR
VERSION:2.0
PRODID:-//La Petite Halle - ECPv4.9.10.1//NONSGML v1.0//EN
CALSCALE:GREGORIAN
METHOD:PUBLISH
X-WR-CALNAME:La Petite Halle
X-ORIGINAL-URL:https://www.lapetitehalle.com
X-WR-CALDESC:évènements pour La Petite Halle
BEGIN:VTIMEZONE
TZID:Europe/Paris
BEGIN:DAYLIGHT
TZOFFSETFROM:+0100
TZOFFSETTO:+0200
TZNAME:CEST
DTSTART:20260329T010000
END:DAYLIGHT
BEGIN:STANDARD
TZOFFSETFROM:+0200
TZOFFSETTO:+0100
TZNAME:CET
DTSTART:20261025T010000
END:STANDARD
END:VTIMEZONE
BEGIN:VEVENT
DTSTART;TZID=Europe/Paris:20260501T210000
DTEND;TZID=Europe/Paris:20260502T010000
DTSTAMP:20260423T103027
CREATED:20260420T155557Z
LAST-MODIFIED:20260420T155622Z
UID:22931-1777669200-1777683600@www.lapetitehalle.com
SUMMARY:Caraïbes Club by Taylor #3 l 01.05.26
DESCRIPTION:\n\n\n\n\nAprès une deuxième édition spéciale Saint-Valentin SOLD OUT\, Caraïbes Club revient plus fort que jamais pour une troisième soirée encore plus vibrante\, célébrant le love\, les bonnes ondes et toute la richesse de la culture afro-caribéenne ❤️ Taylor et son équipe feront vibrer la piste sur les hits d’hier et d’aujourd’hui\, des classiques aux sons les plus chauds du moment\, avec des surprises… et encore plus de surprises prévues pour cette troisième édition Place ensuite à une jam session ouverte\, invitant musiciennes et musiciens à partager la scène dans une ambiance chaleureuse\, bienveillante et propice aux rencontres. \nPour clôturer la soirée\, Roi Luis prendra le contrôle des platines avec un DJ set envoûtant\, épicé et survolté\, pensé pour faire danser et rapprocher les cœurs au rythme des sonorités afro-caribéennes. Une soirée intense\, festive et inoubliable. \nBILLETTERIE : SHOTGUN \n– abonné.e.s SHOTGUN La Petite Halle : 4 € \n– préventes : 6 € \n\n\n\n\n\n\n\n\n
URL:https://www.lapetitehalle.com/evenement/caraibes-club-by-taylor-3-l-01-05-26/
LOCATION:La Petite Halle\, Petite Halle de la Villette\, 211 Av. Jean Jaurès\, Paris\, 75019\, France
CATEGORIES:Concert
ATTACH;FMTTYPE=image/jpeg:https://www.lapetitehalle.com/wp-content/uploads/2026/04/Sans-titre-4.jpg
GEO:48.8905205;2.388024
X-APPLE-STRUCTURED-LOCATION;VALUE=URI;X-ADDRESS=La Petite Halle Petite Halle de la Villette 211 Av. Jean Jaurès Paris 75019 France;X-APPLE-RADIUS=500;X-TITLE=Petite Halle de la Villette\, 211 Av. Jean Jaurès:geo:2.388024,48.8905205
END:VEVENT
END:VCALENDAR