BEGIN:VCALENDAR
VERSION:2.0
PRODID:-//La Petite Halle - ECPv4.9.10.1//NONSGML v1.0//EN
CALSCALE:GREGORIAN
METHOD:PUBLISH
X-WR-CALNAME:La Petite Halle
X-ORIGINAL-URL:https://www.lapetitehalle.com
X-WR-CALDESC:évènements pour La Petite Halle
BEGIN:VTIMEZONE
TZID:Europe/Paris
BEGIN:DAYLIGHT
TZOFFSETFROM:+0100
TZOFFSETTO:+0200
TZNAME:CEST
DTSTART:20240331T010000
END:DAYLIGHT
BEGIN:STANDARD
TZOFFSETFROM:+0200
TZOFFSETTO:+0100
TZNAME:CET
DTSTART:20241027T010000
END:STANDARD
END:VTIMEZONE
BEGIN:VEVENT
DTSTART;TZID=Europe/Paris:20241031T190000
DTEND;TZID=Europe/Paris:20241031T190000
DTSTAMP:20260421T144946
CREATED:20241017T040255Z
LAST-MODIFIED:20241022T040004Z
UID:21014-1730401200-1730401200@www.lapetitehalle.com
SUMMARY:Cherchez la Femme #9 - Spéciale Sorcières
DESCRIPTION: \nCherchez la Femme revient pour une soirée aussi effrayante qu’empouvoirante ! ‍♀️ \n \nLe 31 octobre on fêtera les sorcières\, ces femmes puissantes qui font trembler l’industrie\, ces femmes qui s’émancipent du male gaze\, qui font leurs propres choix de carrières\, qui se connectent à leur sensibilité et à leurs engagements politiques\, à leurs corps\, ces femmes que le boys club de l’industrie continue à diaboliser\, à tenter d’isoler ou de détruire… \n Au programme : une table ronde sur les sorcières de l’industrie (panel encore tenu secret)\, showcases (line-up encore tenu secret)\, Karaoké géant\, tombola solidaire pour l’association « M’endors pas » de Caroline Darian\, tarot\, maquillage effrayant et autres sorcelleries\, venez puissant•es et costumé•es ! \n Billetterie : https://dice.fm/event/bba8dg-cherchez-la-femme-9-speciale-sorcires-31st-oct-la-petite-halle-paris-tickets \n__________________________________\n INFOS PRATIQUES\nLa Petite Halle :\n211 Avenue Jean-Jaurès\, 75019\, Paris\nMétro : Porte de Pantin (ligne 5)\nTramway : Porte de Pantin – Parc de la Villette (ligne 3B)\nPossibilité de se restaurer sur place\nPrix : 12€ \nTarifs : Préventes : 12€ \nBilletteries : Dice \n
URL:https://www.lapetitehalle.com/evenement/cherchez-la-femme-9-speciale-sorcieres/
LOCATION:La Petite Halle\, Petite Halle de la Villette\, 211 Av. Jean Jaurès\, Paris\, 75019\, France
CATEGORIES:Rencontres,Sowprog
ATTACH;FMTTYPE=image/jpeg:https://www.lapetitehalle.com/wp-content/uploads/2024/10/namethumb_w600px_img_event_3fb196a5-b356-4bc5-bc4b-ad9895683664-1.jpg
GEO:48.8905205;2.388024
X-APPLE-STRUCTURED-LOCATION;VALUE=URI;X-ADDRESS=La Petite Halle Petite Halle de la Villette 211 Av. Jean Jaurès Paris 75019 France;X-APPLE-RADIUS=500;X-TITLE=Petite Halle de la Villette\, 211 Av. Jean Jaurès:geo:2.388024,48.8905205
END:VEVENT
END:VCALENDAR