BEGIN:VCALENDAR
VERSION:2.0
PRODID:-//La Petite Halle - ECPv4.9.10.1//NONSGML v1.0//EN
CALSCALE:GREGORIAN
METHOD:PUBLISH
X-WR-CALNAME:La Petite Halle
X-ORIGINAL-URL:https://www.lapetitehalle.com
X-WR-CALDESC:évènements pour La Petite Halle
BEGIN:VTIMEZONE
TZID:Europe/Paris
BEGIN:DAYLIGHT
TZOFFSETFROM:+0100
TZOFFSETTO:+0200
TZNAME:CEST
DTSTART:20250330T010000
END:DAYLIGHT
BEGIN:STANDARD
TZOFFSETFROM:+0200
TZOFFSETTO:+0100
TZNAME:CET
DTSTART:20251026T010000
END:STANDARD
END:VTIMEZONE
BEGIN:VEVENT
DTSTART;TZID=Europe/Paris:20251010T203000
DTEND;TZID=Europe/Paris:20251011T003000
DTSTAMP:20260422T122346
CREATED:20250901T135751Z
LAST-MODIFIED:20250901T135751Z
UID:21998-1760128200-1760142600@www.lapetitehalle.com
SUMMARY:El Gato Negro
DESCRIPTION:\n\n\n\n\nAxel\, alias El Gato Negro\, déploie sur son nouvel album produit par Guts « Tigre Qui Pleure » une profondeur musicale inattendue\, combinant douceur et complexité dans ses messages. Sa tournée réunit Salif Diarra et Mary May\, mélangeant les influences mandingues\, le rap et les percussions afro-latines. De « Cumbia Libre » à ses engagements avec Amnesty International\, El Gato Negro a honoré les musiques latines et exploré les sonorités électroniques\, laissant son empreinte partout où il a vécu. Ses flûtes afro-colombiennes ont captivé des artistes d’Afrique de l’Ouest et de Cuba\, comme Orchestra Baobab et Cucurucho Valdés\, partageant des chansons multilingues mêlant poésie\, philosophie et histoires d’amour ! \nIG : https://www.instagram.com/elgatonegrotropical/ \nFB : https://www.facebook.com/elgatonegrotropical/?locale=es_LA \nLe clip du single « Mundo Cae » : Mundo Cae \nLe live de « Caiman » :Caiman \n\nBILLETTERIE : SHOTGUN ️ \nTARIFS : Préventes : 15 € \nSur place : 18 € \nRESPECT & INCLUSIVITÉ \nAucun comportement discriminatoire ne sera toléré : racisme\, sexisme\, homophobie\, transphobie\, harcèlement. \n➪ Instagram : https://www.instagram.com/lapetitehalle/ \n➪ Facebook : https://www.facebook.com/lapetitehalle \n\n\n\n\n\n\n\n\n
URL:https://www.lapetitehalle.com/evenement/el-gato-negro/
LOCATION:La Petite Halle\, Petite Halle de la Villette\, 211 Av. Jean Jaurès\, Paris\, 75019\, France
CATEGORIES:Concert
ATTACH;FMTTYPE=image/jpeg:https://www.lapetitehalle.com/wp-content/uploads/2025/09/Affiche-CONERT-PARIS-2025-Tigre-Qui-Pleure_shotgun.jpg
GEO:48.8905205;2.388024
X-APPLE-STRUCTURED-LOCATION;VALUE=URI;X-ADDRESS=La Petite Halle Petite Halle de la Villette 211 Av. Jean Jaurès Paris 75019 France;X-APPLE-RADIUS=500;X-TITLE=Petite Halle de la Villette\, 211 Av. Jean Jaurès:geo:2.388024,48.8905205
END:VEVENT
END:VCALENDAR