BEGIN:VCALENDAR
VERSION:2.0
PRODID:-//La Petite Halle - ECPv4.9.10.1//NONSGML v1.0//EN
CALSCALE:GREGORIAN
METHOD:PUBLISH
X-WR-CALNAME:La Petite Halle
X-ORIGINAL-URL:https://www.lapetitehalle.com
X-WR-CALDESC:évènements pour La Petite Halle
BEGIN:VTIMEZONE
TZID:Europe/Paris
BEGIN:DAYLIGHT
TZOFFSETFROM:+0100
TZOFFSETTO:+0200
TZNAME:CEST
DTSTART:20250330T010000
END:DAYLIGHT
BEGIN:STANDARD
TZOFFSETFROM:+0200
TZOFFSETTO:+0100
TZNAME:CET
DTSTART:20251026T010000
END:STANDARD
END:VTIMEZONE
BEGIN:VEVENT
DTSTART;TZID=Europe/Paris:20250927T203000
DTEND;TZID=Europe/Paris:20250927T233000
DTSTAMP:20260422T233624
CREATED:20250625T161035Z
LAST-MODIFIED:20250630T153952Z
UID:21750-1759005000-1759015800@www.lapetitehalle.com
SUMMARY:GROWL PARTY #3
DESCRIPTION:\n\n\n\n\nLa GROWL PARTY ! \nRevient en force à la Petite Halle le 27 septembre 2025 ! Le concentré d’énergie qu’est le premier album de GROWL! Met en scène Hervé Salters (General Elektriks)\, Cyril Atef (Bumcello/Papatef)\, Leeroy (ex Saian Supa Crew) et Lateef the Truhspeaker (Blackalicious/DJ Shadow) qui prennent d’ores et déjà La Petite Halle d’assaut ! Il y sera question de danse\, d’improvisation\, et de rimes athlétiques. \nAmenez des chaussures de sport. Initiée lors d’une jam session intense au Studio Pigalle il y a quelques mois\, la rencontre explosive entre General Elektriks\, Bumcello\, et les rappeurs Leeroy et Lateef the Truthspeaker est un mélange débridé de transe\, de funk\, de hip hop et de musique électronique. Une sorte de fission de l’atome musical où tout peut arriver\, conjurant des accents provenant des 4 coins du monde. \nTARIFS : –  Abonné.es SHOTGUN La Petite Halle : 4€– Préventes normales : 5€– sur place : 6€ \nBILLETTERIE : SHOTGUN \n\n\n\n\n\n\n\n\n
URL:https://www.lapetitehalle.com/evenement/growl-party-3/
LOCATION:La Petite Halle\, Petite Halle de la Villette\, 211 Av. Jean Jaurès\, Paris\, 75019\, France
CATEGORIES:Concert
ATTACH;FMTTYPE=image/jpeg:https://www.lapetitehalle.com/wp-content/uploads/2025/04/namethumb_w600px_img_event_a3053e09-5ed9-4564-b06d-135be9d0968c.jpg
GEO:48.8905205;2.388024
X-APPLE-STRUCTURED-LOCATION;VALUE=URI;X-ADDRESS=La Petite Halle Petite Halle de la Villette 211 Av. Jean Jaurès Paris 75019 France;X-APPLE-RADIUS=500;X-TITLE=Petite Halle de la Villette\, 211 Av. Jean Jaurès:geo:2.388024,48.8905205
END:VEVENT
END:VCALENDAR