BEGIN:VCALENDAR
VERSION:2.0
PRODID:-//La Petite Halle - ECPv4.9.10.1//NONSGML v1.0//EN
CALSCALE:GREGORIAN
METHOD:PUBLISH
X-WR-CALNAME:La Petite Halle
X-ORIGINAL-URL:https://www.lapetitehalle.com
X-WR-CALDESC:évènements pour La Petite Halle
BEGIN:VTIMEZONE
TZID:Europe/Paris
BEGIN:DAYLIGHT
TZOFFSETFROM:+0100
TZOFFSETTO:+0200
TZNAME:CEST
DTSTART:20190331T010000
END:DAYLIGHT
BEGIN:STANDARD
TZOFFSETFROM:+0200
TZOFFSETTO:+0100
TZNAME:CET
DTSTART:20191027T010000
END:STANDARD
END:VTIMEZONE
BEGIN:VEVENT
DTSTART;TZID=Europe/Paris:20191120T210000
DTEND;TZID=Europe/Paris:20191120T210000
DTSTAMP:20260425T173338
CREATED:20190914T040120Z
LAST-MODIFIED:20191120T040131Z
UID:15076-1574283600-1574283600@www.lapetitehalle.com
SUMMARY:IDRIS ACKAMOOR & THE PYRAMIDS
DESCRIPTION: \nQwest TV & La Petite Halle présentent le Mercredi 20 Novembre 2019 à partir de 21h00 : IDRIS ACKAMOOR & THE PYRAMIDS \n \nLe combo américain d’afro-jazz mystique revient sur terre\, et plus précisément à La Petite Halle\, pour présenter son dernier album “An Angel Fell” (Strut Records): une ode à la nature au groove cosmique ! 35 ans après sa création\, la bande d’Idris Ackamoor ne finit pas de nous surprendre avec ses improvisations habitées\, ses rythmes africains et danses tribales : un joyeux carnaval emprunt d’afro-futurisme à voir absolument en live ! \nTelerama écrivait en mai dernier à leur sujet: “Propulsés par des percussions chatoyantes et des chœurs hippies\, le saxophone d’Ackamoor et le violon de Sandra Poindexter décrivent de splendides arabesques qui\, à défaut de changer le monde\, nous invitent à garder la tête dans les étoiles.”. \nCette date sera la seule et unique en France cette année\, on vous aura prévenus ! \nTarif: 20€ en prévente\, 25€ au guichet (hors frais de location) \nOuverture des portes dès 20:00. \nENGLISH : \nThe mystical afro-jazz combo halts their flight for one night back on earth\, more precisely at La Petite Halle\, to present their latest album “An Angel Fell” (Strut Records): it is a body of work that pays homage to nature’s cosmic groove. Thirty five years after they first formed\, Idris Ackamoor & The Pyramids never fails to surprise us with their free and unbridled improv\, their African rhythms and tribal dances: a joyous\, afro-futuristic carnival awaits. A must see! \nThis will be their only concert in France this year. Don’t say we didn’t warn you! \nTarifs : Prévente (+ frais) : 20€ / Sur Place : 25€ \nBilletteries : DigitickFNAC \n
URL:https://www.lapetitehalle.com/evenement/idris-ackamoor-the-pyramids/
LOCATION:La Petite Halle\, Petite Halle de la Villette\, 211 Av. Jean Jaurès\, Paris\, 75019\, France
CATEGORIES:Concert,Sowprog
ATTACH;FMTTYPE=image/jpeg:https://www.lapetitehalle.com/wp-content/uploads/2019/09/namethumb_w600px_img_event_2a659937-e3eb-48af-abd1-89a0494510e1-68.jpg
GEO:48.8905205;2.388024
X-APPLE-STRUCTURED-LOCATION;VALUE=URI;X-ADDRESS=La Petite Halle Petite Halle de la Villette 211 Av. Jean Jaurès Paris 75019 France;X-APPLE-RADIUS=500;X-TITLE=Petite Halle de la Villette\, 211 Av. Jean Jaurès:geo:2.388024,48.8905205
END:VEVENT
END:VCALENDAR