BEGIN:VCALENDAR
VERSION:2.0
PRODID:-//La Petite Halle - ECPv4.9.10.1//NONSGML v1.0//EN
CALSCALE:GREGORIAN
METHOD:PUBLISH
X-WR-CALNAME:La Petite Halle
X-ORIGINAL-URL:https://www.lapetitehalle.com
X-WR-CALDESC:évènements pour La Petite Halle
BEGIN:VTIMEZONE
TZID:Europe/Paris
BEGIN:DAYLIGHT
TZOFFSETFROM:+0100
TZOFFSETTO:+0200
TZNAME:CEST
DTSTART:20190331T010000
END:DAYLIGHT
BEGIN:STANDARD
TZOFFSETFROM:+0200
TZOFFSETTO:+0100
TZNAME:CET
DTSTART:20191027T010000
END:STANDARD
END:VTIMEZONE
BEGIN:VEVENT
DTSTART;TZID=Europe/Paris:20191016T210000
DTEND;TZID=Europe/Paris:20191016T210000
DTSTAMP:20260420T022730
CREATED:20190925T040301Z
LAST-MODIFIED:20191016T040302Z
UID:15237-1571259600-1571259600@www.lapetitehalle.com
SUMMARY:Les Mercredis JazzManouche : RICHARD MANETTI et GUILLAUME MUSCHALLE
DESCRIPTION: \nChaque mercredi La Petite Halle accueille sur sa scène un duo … C’est le nouveau rendez-vous du Jazz Manouche dans la capitale ! \n \nRichard et Guillaume se réunissent autour de la Guitare -avec un grand G- pour mélanger leurs univers Jazz\, Soul et Pop. De cette rencontre de virtuoses découle naturellement une musique où harmonie et mélodie sont les maître-mots.\nL’improvisation restant le dénominateur commun de cette formule à l’approche résolument moderne. \nRichard Manetti (g)\, Guillaume Muschalle (b) \nVidéo : https://www.youtube.com/watch?v=m3Duy_uXEOI \nEn entrée libre / Free entrance ! (Ouverture des portes 20h) \nRichard and Guillaume meet in order to mix their Jazz\, Soul and Pop universes. \nTarifs : Gratuit \n
URL:https://www.lapetitehalle.com/evenement/les-mercredis-jazzmanouche-richard-manetti-et-guillaume-mischalle/
LOCATION:La Petite Halle\, Petite Halle de la Villette\, 211 Av. Jean Jaurès\, Paris\, 75019\, France
CATEGORIES:Sowprog
ATTACH;FMTTYPE=image/jpeg:https://www.lapetitehalle.com/wp-content/uploads/2019/09/namethumb_w600px_img_event_d25412a9-ca69-4da7-9745-fd8f69572503-21.jpg
GEO:48.8905205;2.388024
X-APPLE-STRUCTURED-LOCATION;VALUE=URI;X-ADDRESS=La Petite Halle Petite Halle de la Villette 211 Av. Jean Jaurès Paris 75019 France;X-APPLE-RADIUS=500;X-TITLE=Petite Halle de la Villette\, 211 Av. Jean Jaurès:geo:2.388024,48.8905205
END:VEVENT
END:VCALENDAR