BEGIN:VCALENDAR
VERSION:2.0
PRODID:-//La Petite Halle - ECPv4.9.10.1//NONSGML v1.0//EN
CALSCALE:GREGORIAN
METHOD:PUBLISH
X-WR-CALNAME:La Petite Halle
X-ORIGINAL-URL:https://www.lapetitehalle.com
X-WR-CALDESC:évènements pour La Petite Halle
BEGIN:VTIMEZONE
TZID:Europe/Paris
BEGIN:DAYLIGHT
TZOFFSETFROM:+0100
TZOFFSETTO:+0200
TZNAME:CEST
DTSTART:20190331T010000
END:DAYLIGHT
BEGIN:STANDARD
TZOFFSETFROM:+0200
TZOFFSETTO:+0100
TZNAME:CET
DTSTART:20191027T010000
END:STANDARD
END:VTIMEZONE
BEGIN:VEVENT
DTSTART;TZID=Europe/Paris:20190405T210000
DTEND;TZID=Europe/Paris:20190405T210000
DTSTAMP:20260423T220619
CREATED:20190301T040040Z
LAST-MODIFIED:20190405T040147Z
UID:12833-1554498000-1554498000@www.lapetitehalle.com
SUMMARY:LJC #3 - Maisha + Peluché
DESCRIPTION: \nLONDON JAZZ CALLING #3 : \n \nNIGHT 3 : \nLe London Jazz Calling a pour vocation de mettre en avant la nouvelle scène jazz UK\, sa richesse\, son vivier de musiciens qui met un bon coup de pied dans la fourmilière\, casse les codes et remet le groove au centre de sa musique. \n~ Maisha – UK ~\nMaisha\, groupe à 6 têtes mené par Jake Long\, apporte un vent de fraicheur au jazz trop lourdement traditionnel.  Fidèles à l’esprit novateur des grands précurseurs du spiritual jazz des années 60 comme Alice Coltrane\, Don Cherry ou Pharoah Sanders\, les membres de ce collectif à géométrie variable proposent une fusion contemporaine de free jazz\, de rythmiques ouest-africaines hypnotiques et de groove afrobeat. Des titres parfaitement orchestrés où le temps s’étire\, laissant place à la rêverie ou à la transe. \nBC : https://maisha.bandcamp.com/\nSC : https://soundcloud.com/musicofmaisha \n~ Peluché ~\nInitiatrice du genre Trip Jam\, qui fusionne le hip-hop\, la musique latine et le funk psychédélique\, Peluché s’extirpe du lot diversifié qu’est la scène londonnienne par leur talent artistique\, en marge de toute conventions. On peut reconnaître un lyrisme à la Kate Bush\, un esprit punk à la Cocteau Twins glissant vers le latin groove. Un melting pot osé qu’on ne peut qu’apprécier.  \nBC : https://peluchebanduk.bandcamp.com/\nSC : https://soundcloud.com/pelucheband \n~ DJ SET : Qwest TV crew ~\nCo-fondé par Quincy Jones et Reza Ackbaraly\, Qwest TV est un média à part entière\, mettant à disposition une plateforme SVOD et un magazine dédiée au Jazz and beyond. Ils nous livreront une selection à leur image : éclectique et définitivement beyond jazz.  \nTARIFS :\n・Early Birds + 3 mois d’abonnement à Qwest TV – 18€\n・Pass 3 jours – 50€\n・Sur place – 20€ \nTarifs : Early Birds + 3 mois d’abonnement à Qwest TV : 18€ / Sur place : 20€ / Pass 3 jours : 50€ \nBilletteries : Weezevent \n
URL:https://www.lapetitehalle.com/evenement/ljc-3-maisha-peluche/
LOCATION:La Petite Halle\, Petite Halle de la Villette\, 211 Av. Jean Jaurès\, Paris\, 75019\, France
CATEGORIES:Sowprog
ATTACH;FMTTYPE=image/jpeg:https://www.lapetitehalle.com/wp-content/uploads/2019/03/namethumb_w600px_img_event_dcdd6556-060d-43ea-80ec-68d9c2fd9651-35.jpg
GEO:48.8905205;2.388024
X-APPLE-STRUCTURED-LOCATION;VALUE=URI;X-ADDRESS=La Petite Halle Petite Halle de la Villette 211 Av. Jean Jaurès Paris 75019 France;X-APPLE-RADIUS=500;X-TITLE=Petite Halle de la Villette\, 211 Av. Jean Jaurès:geo:2.388024,48.8905205
END:VEVENT
END:VCALENDAR