BEGIN:VCALENDAR
VERSION:2.0
PRODID:-//La Petite Halle - ECPv4.9.10.1//NONSGML v1.0//EN
CALSCALE:GREGORIAN
METHOD:PUBLISH
X-WR-CALNAME:La Petite Halle
X-ORIGINAL-URL:https://www.lapetitehalle.com
X-WR-CALDESC:évènements pour La Petite Halle
BEGIN:VTIMEZONE
TZID:Europe/Paris
BEGIN:DAYLIGHT
TZOFFSETFROM:+0100
TZOFFSETTO:+0200
TZNAME:CEST
DTSTART:20240331T010000
END:DAYLIGHT
BEGIN:STANDARD
TZOFFSETFROM:+0200
TZOFFSETTO:+0100
TZNAME:CET
DTSTART:20241027T010000
END:STANDARD
END:VTIMEZONE
BEGIN:VEVENT
DTSTART;TZID=Europe/Paris:20241024T200000
DTEND;TZID=Europe/Paris:20241024T230000
DTSTAMP:20260422T191646
CREATED:20240924T040029Z
LAST-MODIFIED:20240926T100805Z
UID:20955-1729800000-1729810800@www.lapetitehalle.com
SUMMARY:Magic Malik Fanfare XP
DESCRIPTION:\n\n\n\n \n  \nLa Fanfare XP est de retour à La Petite Halle le jeudi 24 octobre  \n  \nLa Fanfare XP\, est née d’une idée commune entre Magic Malik\, Pascal Mabit et Olivier Laisney\, lors d’une rencontre au cours d’une résidence à la Fondation Royaumont. Fort de ses nombreuses rencontres et collaborations avec des musiciens aux esthétiques variées\, Magic Malik a su se forger un son original et reconnaissable. \n« Ses envolées lyriques\, solos virtuoses envoûtants et transitions vers des ostinatos légers et festifs\, qui se décalent au fur et à mesure de l’avancée des morceaux\, ouvrent autant d’espaces d’intervention et d’improvisation aux autres musiciens. […] Superposition de nappes sonores\, bruitages et constructions abstraites\, les pièces prennent parfois des allures de méditation. […] … le processus de création se poursuit sous nos yeux\, dans cette expression musicale perméable et intuitive qui tient de l’expérimentation joyeuse. » Flora Vandenesch – Citizenjazz. \nCe groupe réunit des musiciens volontaires et issus de tous horizons pour explorer la composition et l’improvisation sous des angles originaux\, développés par Malik au cours de sa carrière : taléas-colors (décalages entre des phrases rythmiques et mélodiques)\, signatures tonales (monde harmonique développé par Malik)\, modes de Messiaen. \n LINE-UP :Malik Mezzadri (flûte\, voix)Fanny Ménégoz (flûte)Pascal Mabit (saxophone)Maciek Lasserre (Saxophone)Johan Blanc (trombone)Olivier Laisney (trompette)Alexandre Herer (claviers)Gilles Coronado (guitare)Maïlys Maronne (piano)Nicolas Bauer (basse)Vincent Sauve (batterie) \nUn aperçu ?   \n \n__________________________________ INFOS PRATIQUESLa Petite Halle :211 Avenue Jean-Jaurès\, 75019\, ParisMétro : Porte de Pantin (ligne 5)Tramway : Porte de Pantin – Parc de la Villette (ligne 3B)Possibilité de se restaurer sur placeParticipation libre : chacun donne (ou non) ce qu’il veut \nTarifs : Gratuit / Participation libre \n\n\n\n\n\n\n\n\n 
URL:https://www.lapetitehalle.com/evenement/magic-malik-fanfare-xp-5/
LOCATION:La Petite Halle\, Petite Halle de la Villette\, 211 Av. Jean Jaurès\, Paris\, 75019\, France
CATEGORIES:Concert,Sowprog
ATTACH;FMTTYPE=image/jpeg:https://www.lapetitehalle.com/wp-content/uploads/2024/09/Fanfare-XP.jpg
GEO:48.8905205;2.388024
X-APPLE-STRUCTURED-LOCATION;VALUE=URI;X-ADDRESS=La Petite Halle Petite Halle de la Villette 211 Av. Jean Jaurès Paris 75019 France;X-APPLE-RADIUS=500;X-TITLE=Petite Halle de la Villette\, 211 Av. Jean Jaurès:geo:2.388024,48.8905205
END:VEVENT
END:VCALENDAR