BEGIN:VCALENDAR
VERSION:2.0
PRODID:-//La Petite Halle - ECPv4.9.10.1//NONSGML v1.0//EN
CALSCALE:GREGORIAN
METHOD:PUBLISH
X-WR-CALNAME:La Petite Halle
X-ORIGINAL-URL:https://www.lapetitehalle.com
X-WR-CALDESC:évènements pour La Petite Halle
BEGIN:VTIMEZONE
TZID:Europe/Paris
BEGIN:DAYLIGHT
TZOFFSETFROM:+0100
TZOFFSETTO:+0200
TZNAME:CEST
DTSTART:20240331T010000
END:DAYLIGHT
BEGIN:STANDARD
TZOFFSETFROM:+0200
TZOFFSETTO:+0100
TZNAME:CET
DTSTART:20241027T010000
END:STANDARD
END:VTIMEZONE
BEGIN:VEVENT
DTSTART;TZID=Europe/Paris:20241026T213000
DTEND;TZID=Europe/Paris:20241027T020000
DTSTAMP:20260421T145227
CREATED:20240924T040027Z
LAST-MODIFIED:20241007T092049Z
UID:20953-1729978200-1729994400@www.lapetitehalle.com
SUMMARY:PAPATEF
DESCRIPTION:\n\n\n\n \n  \nPapatef (aka Cyril Atef) est de retour à La Petite Halle le samedi 26 octobre ! \n  \nVéritable homme-orchestre officiant simultanément aux percussions\, drum machines\, platines et chant\, il vous emmènera vers la transe en quelques minutes. \nBien connu du public pour ses multiples aventures musicales avec Vincent Segal (Bumcello)\, mais aussi pour son projet CongopunQ ou encore ses collaborations avec Matthieu Chedid et Gotan Project\, attention PAPATEF va vous faire danser toute la soirée ! \nUn aperçu ? ⬇️ \n \n__________________________________ INFOS PRATIQUESLa Petite HalleAttenant à la Grande Halle de la Villette\, 211 Avenue Jean Jaurès\, 75019 ParisEntrée libre !Possibilité de se restaurer sur placeParticipation libre : chacun donne (ou non) ce qu’il veut \nTarifs : Gratuit \n\n\n\n\n\n\n\n\n 
URL:https://www.lapetitehalle.com/evenement/papatef-16/
LOCATION:La Petite Halle\, Petite Halle de la Villette\, 211 Av. Jean Jaurès\, Paris\, 75019\, France
CATEGORIES:Concert,Sowprog
ATTACH;FMTTYPE=image/jpeg:https://www.lapetitehalle.com/wp-content/uploads/2024/09/Papatef.jpg
GEO:48.8905205;2.388024
X-APPLE-STRUCTURED-LOCATION;VALUE=URI;X-ADDRESS=La Petite Halle Petite Halle de la Villette 211 Av. Jean Jaurès Paris 75019 France;X-APPLE-RADIUS=500;X-TITLE=Petite Halle de la Villette\, 211 Av. Jean Jaurès:geo:2.388024,48.8905205
END:VEVENT
END:VCALENDAR