BEGIN:VCALENDAR
VERSION:2.0
PRODID:-//La Petite Halle - ECPv4.9.10.1//NONSGML v1.0//EN
CALSCALE:GREGORIAN
METHOD:PUBLISH
X-WR-CALNAME:La Petite Halle
X-ORIGINAL-URL:https://www.lapetitehalle.com
X-WR-CALDESC:évènements pour La Petite Halle
BEGIN:VTIMEZONE
TZID:Europe/Paris
BEGIN:DAYLIGHT
TZOFFSETFROM:+0100
TZOFFSETTO:+0200
TZNAME:CEST
DTSTART:20250330T010000
END:DAYLIGHT
BEGIN:STANDARD
TZOFFSETFROM:+0200
TZOFFSETTO:+0100
TZNAME:CET
DTSTART:20251026T010000
END:STANDARD
END:VTIMEZONE
BEGIN:VEVENT
DTSTART;TZID=Europe/Paris:20251012T190000
DTEND;TZID=Europe/Paris:20251012T233000
DTSTAMP:20260422T092423
CREATED:20251001T091645Z
LAST-MODIFIED:20251001T091908Z
UID:22170-1760295600-1760311800@www.lapetitehalle.com
SUMMARY:SOTAK Samba Club invite : Karla Da Silva
DESCRIPTION:\n\n\n\n\nAdoré par son public depuis qu’elle a fait son apparition à Paris\, Karla Silva se démarque par sa voix puissante\, façonnée là où elle a grandit\, à Madureira\, un des berceaux de la samba carioca\, où siègent deux grandes écoles de samba : Portela et Império Serrano\, mais aussi dans les nuits du quartier bohème de Lapa.\n \nIssue de la nouvelle génération de chanteuses de samba venue des quartiers populaires de Rio de Janeiro\, Karla compte plusieurs prix et disques à son actif dont un nouvel album « Sotak » paru fin 2024\, aclamé par Songlines\, Libération\, La Terrasse et bien d’autres !\nDepuis\, elle sillone les grands festivals de France et Europe\, partageant la scène avec des grands noms de la Musique tels que Jorge Aragão\, Daniela Mercury ou encore\, Angélique Kidjo sur un projet spécial France-Brésin-Brésil. Sa voix habitée fait echo aux racines africaines du Brésil. Résolument un pur moment à passer\, et à ne pas rater\, dans ses rodas de samba et concerts.\n \nBILLETTERIE : BILLETWEB\n\n\n\n\n\n\n\n\n
URL:https://www.lapetitehalle.com/evenement/sotak-samba-club-invite-karla/
LOCATION:La Petite Halle\, Petite Halle de la Villette\, 211 Av. Jean Jaurès\, Paris\, 75019\, France
CATEGORIES:Concert
ATTACH;FMTTYPE=image/jpeg:https://www.lapetitehalle.com/wp-content/uploads/2025/10/EVT_FB_SSC_KARLA_12_10_25.jpg
GEO:48.8905205;2.388024
X-APPLE-STRUCTURED-LOCATION;VALUE=URI;X-ADDRESS=La Petite Halle Petite Halle de la Villette 211 Av. Jean Jaurès Paris 75019 France;X-APPLE-RADIUS=500;X-TITLE=Petite Halle de la Villette\, 211 Av. Jean Jaurès:geo:2.388024,48.8905205
END:VEVENT
END:VCALENDAR